BEGIN:VCALENDAR
VERSION:2.0
PRODID:-//JCC NNJ - ECPv6.15.20//NONSGML v1.0//EN
CALSCALE:GREGORIAN
METHOD:PUBLISH
X-WR-CALNAME:JCC NNJ
X-ORIGINAL-URL:https://jccnnj.org
X-WR-CALDESC:Events for JCC NNJ
REFRESH-INTERVAL;VALUE=DURATION:PT1H
X-Robots-Tag:noindex
X-PUBLISHED-TTL:PT1H
BEGIN:VTIMEZONE
TZID:America/New_York
BEGIN:DAYLIGHT
TZOFFSETFROM:-0500
TZOFFSETTO:-0400
TZNAME:EDT
DTSTART:20230312T070000
END:DAYLIGHT
BEGIN:STANDARD
TZOFFSETFROM:-0400
TZOFFSETTO:-0500
TZNAME:EST
DTSTART:20231105T060000
END:STANDARD
BEGIN:DAYLIGHT
TZOFFSETFROM:-0500
TZOFFSETTO:-0400
TZNAME:EDT
DTSTART:20240310T070000
END:DAYLIGHT
BEGIN:STANDARD
TZOFFSETFROM:-0400
TZOFFSETTO:-0500
TZNAME:EST
DTSTART:20241103T060000
END:STANDARD
BEGIN:DAYLIGHT
TZOFFSETFROM:-0500
TZOFFSETTO:-0400
TZNAME:EDT
DTSTART:20250309T070000
END:DAYLIGHT
BEGIN:STANDARD
TZOFFSETFROM:-0400
TZOFFSETTO:-0500
TZNAME:EST
DTSTART:20251102T060000
END:STANDARD
BEGIN:DAYLIGHT
TZOFFSETFROM:-0500
TZOFFSETTO:-0400
TZNAME:EDT
DTSTART:20260308T070000
END:DAYLIGHT
BEGIN:STANDARD
TZOFFSETFROM:-0400
TZOFFSETTO:-0500
TZNAME:EST
DTSTART:20261101T060000
END:STANDARD
BEGIN:DAYLIGHT
TZOFFSETFROM:-0500
TZOFFSETTO:-0400
TZNAME:EDT
DTSTART:20270314T070000
END:DAYLIGHT
BEGIN:STANDARD
TZOFFSETFROM:-0400
TZOFFSETTO:-0500
TZNAME:EST
DTSTART:20271107T060000
END:STANDARD
END:VTIMEZONE
BEGIN:VEVENT
DTSTART;TZID=America/New_York:20260419T150000
DTEND;TZID=America/New_York:20260419T170000
DTSTAMP:20260421T044323
CREATED:20260302T161415Z
LAST-MODIFIED:20260414T153039Z
UID:10000686-1776610800-1776618000@jccnnj.org
SUMMARY:Yom Ha'atzmaut - Israel's Birthday Bash
DESCRIPTION:Join us for a special PLANETARIUM experience! Explore\, play\, and create at our space-themed Israel celebration featuring hands-on activities\, music\, and snacks. \n\n\n\nMember Price: $25 for family of up to 4 people$10 per additional ticket (18 months and up) \n\n\n\nPublic Price: $36 for family of up to 4 people$10 per additional ticket (18 months and up) \n\n\n\nShowtime Options: 3:30 or 4:10 Please note: Due to space constraints\, show times are expected to sell out.  \n\n\n\nThank you to our synagogue and community partners:Beth Am TempleBeth Haverim Shir ShalomCongregation Sons of Israel NyackKol Dorot: A Reform Jewish CommunityNew City Jewish CenterOrangetown Jewish CenterTemple Beth SholomTemple Emanuel of the Pascack Valley \n\n\n\n*Price increases at the door*
URL:https://jccnnj.org/event/yom-haatzmaut-israels-birthday-bash/
CATEGORIES:Community Event
ATTACH;FMTTYPE=image/png:https://jccnnj.org/wp-content/uploads/2026/03/Israel-Birthday-Bash-scaled.png
END:VEVENT
BEGIN:VEVENT
DTSTART;TZID=America/New_York:20250504T140000
DTEND;TZID=America/New_York:20250504T160000
DTSTAMP:20260421T044323
CREATED:20250306T175641Z
LAST-MODIFIED:20250428T193328Z
UID:10000561-1746367200-1746374400@jccnnj.org
SUMMARY:Israel's Birthday Bash
DESCRIPTION:Join us for an exciting afternoon! Doors open at 1:45 PM to play carnival games\, do crafts\, face painting\, eat Israeli snacks\, and more! At 3 PM\, we’ll dance and sing with an electrifying performance from Alex and the Kaleidoscope! Celebrate Israel with us by wearing blue and white! \n\n\n\nBest for children up through 8 years old. \n\n\n\n$36 per family
URL:https://jccnnj.org/event/israels-birthday-bash/
CATEGORIES:Community Event
ATTACH;FMTTYPE=image/png:https://jccnnj.org/wp-content/uploads/2025/03/israel-birthday-SQUARE.png
END:VEVENT
BEGIN:VEVENT
DTSTART;TZID=America/New_York:20250302T103000
DTEND;TZID=America/New_York:20250302T103000
DTSTAMP:20260421T044323
CREATED:20250128T175324Z
LAST-MODIFIED:20250205T092135Z
UID:10000541-1740911400-1740911400@jccnnj.org
SUMMARY:Purim Character Breakfast
DESCRIPTION:Wear your favorite costume and join us for a fun-filled Purim character breakfast! Enjoy meet-and-greets\, a delicious breakfast bar\, shalach manot making\, crafts\, bounce houses\, and more! \n\n\n\n$10 per Child | $15 per Adult \n\n\n\n(Register by 2/12 to receive one child free!) \n\n\n\n\nSave YOur Spot\n\n\n\n\nRegister above or contact Kelli Kersh at kellik@jccrockland.org
URL:https://jccnnj.org/event/purim-character-breakfast/
CATEGORIES:Community Event,J on the Go
ATTACH;FMTTYPE=image/jpeg:https://jccnnj.org/wp-content/uploads/2025/01/JCC_PurimCharacterBreakfast-Social.jpg
END:VEVENT
BEGIN:VEVENT
DTSTART;TZID=America/New_York:20241015T090000
DTEND;TZID=America/New_York:20241015T090000
DTSTAMP:20260421T044323
CREATED:20241002T162356Z
LAST-MODIFIED:20250224T165456Z
UID:10000506-1728982800-1728982800@jccnnj.org
SUMMARY:Morning Mingle
DESCRIPTION:Our JCC community enjoyed a morning together hearing updates about our JCC from our leadership team where we heard about our flourishing programs for young families and active seniors in our community. \n\n\n\nThank you also to our special speaker\, author and Middle East expert Avi Melamed\, and his CEO Maia Hoffman for sharing insights into the Middle East and helping us to understand how we arrived at the current critical situation. You can find more information about their organization as well as educational resources at: https://insidethemiddle-east.com/ \n\n\n\nFor more info contact Erica Danziger Program Director at ericad@jccnnj.org
URL:https://jccnnj.org/event/morning-mingle/
CATEGORIES:Community Event
ATTACH;FMTTYPE=image/jpeg:https://jccnnj.org/wp-content/uploads/2024/10/NNJ_AnnualBreakfast_WebImage-scaled.jpg
END:VEVENT
END:VCALENDAR