BEGIN:VCALENDAR
VERSION:2.0
PRODID:-//JCC NNJ - ECPv6.15.20//NONSGML v1.0//EN
CALSCALE:GREGORIAN
METHOD:PUBLISH
X-ORIGINAL-URL:https://jccnnj.org
X-WR-CALDESC:Events for JCC NNJ
REFRESH-INTERVAL;VALUE=DURATION:PT1H
X-Robots-Tag:noindex
X-PUBLISHED-TTL:PT1H
BEGIN:VTIMEZONE
TZID:America/New_York
BEGIN:DAYLIGHT
TZOFFSETFROM:-0500
TZOFFSETTO:-0400
TZNAME:EDT
DTSTART:20220313T070000
END:DAYLIGHT
BEGIN:STANDARD
TZOFFSETFROM:-0400
TZOFFSETTO:-0500
TZNAME:EST
DTSTART:20221106T060000
END:STANDARD
BEGIN:DAYLIGHT
TZOFFSETFROM:-0500
TZOFFSETTO:-0400
TZNAME:EDT
DTSTART:20230312T070000
END:DAYLIGHT
BEGIN:STANDARD
TZOFFSETFROM:-0400
TZOFFSETTO:-0500
TZNAME:EST
DTSTART:20231105T060000
END:STANDARD
BEGIN:DAYLIGHT
TZOFFSETFROM:-0500
TZOFFSETTO:-0400
TZNAME:EDT
DTSTART:20240310T070000
END:DAYLIGHT
BEGIN:STANDARD
TZOFFSETFROM:-0400
TZOFFSETTO:-0500
TZNAME:EST
DTSTART:20241103T060000
END:STANDARD
END:VTIMEZONE
BEGIN:VEVENT
DTSTART;TZID=America/New_York:20231022T100000
DTEND;TZID=America/New_York:20231022T110000
DTSTAMP:20260424T074650
CREATED:20231011T192746Z
LAST-MODIFIED:20231011T194503Z
UID:10000430-1697968800-1697972400@jccnnj.org
SUMMARY:National Day of Jewish Service
DESCRIPTION:Calling all families! Join us for a meaningful mitzvah moment in celebration of National Day of Jewish Service (NDJS)\, a Repair the World program. \n\n\n\nLet’s make a difference to end hunger! We’re diving into action with our friends from the Center for Food Action to assemble snack packs for children suffering from food insecurity in our community. \n\n\n\nAttendance is free. Advanced registration is required. Space is limited. Donations to support programs like these are appreciated. \n\n\n\nThis is a family-focused event. Best for families with ages 3 and older. \n\n\n\nNDJS is part of Service Matters: Building a Jewish Movement\, a series of events to engage in\, strengthen\, and celebrate meaningful #JewishService\, hosted by the Jewish Service Alliance\, powered by Repair the World. \n\n\n\nCost: Free but advanced registration required.
URL:https://jccnnj.org/event/national-day-of-jewish-service/
CATEGORIES:Family Programming
ATTACH;FMTTYPE=image/jpeg:https://jccnnj.org/wp-content/uploads/2023/10/NNJ_NDJS_NewsletterPhoto-Erica-Danziger.jpg
END:VEVENT
END:VCALENDAR