BEGIN:VCALENDAR
VERSION:2.0
PRODID:-//JCC NNJ - ECPv6.15.20//NONSGML v1.0//EN
CALSCALE:GREGORIAN
METHOD:PUBLISH
X-WR-CALNAME:JCC NNJ
X-ORIGINAL-URL:https://jccnnj.org
X-WR-CALDESC:Events for JCC NNJ
REFRESH-INTERVAL;VALUE=DURATION:PT1H
X-Robots-Tag:noindex
X-PUBLISHED-TTL:PT1H
BEGIN:VTIMEZONE
TZID:America/New_York
BEGIN:DAYLIGHT
TZOFFSETFROM:-0500
TZOFFSETTO:-0400
TZNAME:EDT
DTSTART:20220313T070000
END:DAYLIGHT
BEGIN:STANDARD
TZOFFSETFROM:-0400
TZOFFSETTO:-0500
TZNAME:EST
DTSTART:20221106T060000
END:STANDARD
BEGIN:DAYLIGHT
TZOFFSETFROM:-0500
TZOFFSETTO:-0400
TZNAME:EDT
DTSTART:20230312T070000
END:DAYLIGHT
BEGIN:STANDARD
TZOFFSETFROM:-0400
TZOFFSETTO:-0500
TZNAME:EST
DTSTART:20231105T060000
END:STANDARD
BEGIN:DAYLIGHT
TZOFFSETFROM:-0500
TZOFFSETTO:-0400
TZNAME:EDT
DTSTART:20240310T070000
END:DAYLIGHT
BEGIN:STANDARD
TZOFFSETFROM:-0400
TZOFFSETTO:-0500
TZNAME:EST
DTSTART:20241103T060000
END:STANDARD
END:VTIMEZONE
BEGIN:VEVENT
DTSTART;TZID=America/New_York:20231119T100000
DTEND;TZID=America/New_York:20231119T110000
DTSTAMP:20260422T081414
CREATED:20231004T134749Z
LAST-MODIFIED:20231101T192524Z
UID:10000429-1700388000-1700391600@jccnnj.org
SUMMARY:Story Time with author Elyssa Friedland
DESCRIPTION:Story Time with author Elyssa Friedland: “The Museum of Lost Teeth” \n\n\n\nBring the kids for a cozy Sunday morning with author Elyssa Friedland who will be reading her adorable and funny book\, “The Museum of Lost Teeth.” Coffee and muffins will be provided. Best for children ages 3-5+. Each ticket includes a signed copy of the book. Additional copies available for purchase at the event. \n\n\n\nCost: $18 per family \n\n\n\nLocated at Vale Coffee Shoppe\, 669 Westwood Ave. River Vale
URL:https://jccnnj.org/event/story-time-with-author-elyssa-friedland/
CATEGORIES:Family Programming
ATTACH;FMTTYPE=image/jpeg:https://jccnnj.org/wp-content/uploads/2023/10/NNJ_Storytime_Photo.jpg
END:VEVENT
END:VCALENDAR