BEGIN:VCALENDAR
VERSION:2.0
PRODID:-//JCC NNJ - ECPv6.15.20//NONSGML v1.0//EN
CALSCALE:GREGORIAN
METHOD:PUBLISH
X-ORIGINAL-URL:https://jccnnj.org
X-WR-CALDESC:Events for JCC NNJ
REFRESH-INTERVAL;VALUE=DURATION:PT1H
X-Robots-Tag:noindex
X-PUBLISHED-TTL:PT1H
BEGIN:VTIMEZONE
TZID:America/New_York
BEGIN:DAYLIGHT
TZOFFSETFROM:-0500
TZOFFSETTO:-0400
TZNAME:EDT
DTSTART:20240310T070000
END:DAYLIGHT
BEGIN:STANDARD
TZOFFSETFROM:-0400
TZOFFSETTO:-0500
TZNAME:EST
DTSTART:20241103T060000
END:STANDARD
BEGIN:DAYLIGHT
TZOFFSETFROM:-0500
TZOFFSETTO:-0400
TZNAME:EDT
DTSTART:20250309T070000
END:DAYLIGHT
BEGIN:STANDARD
TZOFFSETFROM:-0400
TZOFFSETTO:-0500
TZNAME:EST
DTSTART:20251102T060000
END:STANDARD
BEGIN:DAYLIGHT
TZOFFSETFROM:-0500
TZOFFSETTO:-0400
TZNAME:EDT
DTSTART:20260308T070000
END:DAYLIGHT
BEGIN:STANDARD
TZOFFSETFROM:-0400
TZOFFSETTO:-0500
TZNAME:EST
DTSTART:20261101T060000
END:STANDARD
END:VTIMEZONE
BEGIN:VEVENT
DTSTART;TZID=America/New_York:20250618T193000
DTEND;TZID=America/New_York:20250618T210000
DTSTAMP:20260421T111137
CREATED:20250604T151518Z
LAST-MODIFIED:20250604T151522Z
UID:10000586-1750275000-1750280400@jccnnj.org
SUMMARY:Mocktail Club
DESCRIPTION:A cozy meetup for expecting parents—whether you’re sporting your first bump or adding another little love to your family\, come sip\, share\, and connect. Because growing a baby is better together! \n\n\n\nLocation: Ridgewood \n\n\n\nCost: Pay as you go
URL:https://jccnnj.org/event/mocktail-club/
CATEGORIES:Connecting the Expecting,J on the Go
ATTACH;FMTTYPE=image/png:https://jccnnj.org/wp-content/uploads/2025/06/connecting-the-expecting-Mocktail-Club.png
END:VEVENT
END:VCALENDAR