BEGIN:VCALENDAR
VERSION:2.0
PRODID:-//JCC NNJ - ECPv6.15.20//NONSGML v1.0//EN
CALSCALE:GREGORIAN
METHOD:PUBLISH
X-ORIGINAL-URL:https://jccnnj.org
X-WR-CALDESC:Events for JCC NNJ
REFRESH-INTERVAL;VALUE=DURATION:PT1H
X-Robots-Tag:noindex
X-PUBLISHED-TTL:PT1H
BEGIN:VTIMEZONE
TZID:America/New_York
BEGIN:DAYLIGHT
TZOFFSETFROM:-0500
TZOFFSETTO:-0400
TZNAME:EDT
DTSTART:20250309T070000
END:DAYLIGHT
BEGIN:STANDARD
TZOFFSETFROM:-0400
TZOFFSETTO:-0500
TZNAME:EST
DTSTART:20251102T060000
END:STANDARD
BEGIN:DAYLIGHT
TZOFFSETFROM:-0500
TZOFFSETTO:-0400
TZNAME:EDT
DTSTART:20260308T070000
END:DAYLIGHT
BEGIN:STANDARD
TZOFFSETFROM:-0400
TZOFFSETTO:-0500
TZNAME:EST
DTSTART:20261101T060000
END:STANDARD
BEGIN:DAYLIGHT
TZOFFSETFROM:-0500
TZOFFSETTO:-0400
TZNAME:EDT
DTSTART:20270314T070000
END:DAYLIGHT
BEGIN:STANDARD
TZOFFSETFROM:-0400
TZOFFSETTO:-0500
TZNAME:EST
DTSTART:20271107T060000
END:STANDARD
END:VTIMEZONE
BEGIN:VEVENT
DTSTART;TZID=America/New_York:20260419T140000
DTEND;TZID=America/New_York:20260419T140000
DTSTAMP:20260419T105033
CREATED:20260304T152807Z
LAST-MODIFIED:20260304T152808Z
UID:10000697-1776607200-1776607200@jccnnj.org
SUMMARY:Of Dogs and Men | Regal Nanuet
DESCRIPTION:Of Dogs and Men is a tender\, urgent exploration of the aftermath of the October 7 attacks in Israel. Following 16-year-old survivor Dar (Ori Avinoam) as she searches for her lost dog on Kibbutz Nir Oz\, the film blends fiction and documentary\, featuring non actors whose improvised conversations capture raw\, authentic reactions to the violence.
URL:https://jccnnj.org/event/of-dogs-and-men-regal-nanuet/
CATEGORIES:Rockland JCC International Film Festival
ATTACH;FMTTYPE=image/jpeg:https://jccnnj.org/wp-content/uploads/2026/03/dogs-and-men-nnj.jpg
END:VEVENT
BEGIN:VEVENT
DTSTART;TZID=America/New_York:20260419T190000
DTEND;TZID=America/New_York:20260419T190000
DTSTAMP:20260419T105033
CREATED:20260304T153034Z
LAST-MODIFIED:20260304T153120Z
UID:10000698-1776625200-1776625200@jccnnj.org
SUMMARY:Charles Grodin: Rebel With a Cause | Regal Nanuet
DESCRIPTION:Raised in a Jewish household in Pittsburgh\, Charles Grodin’s life embodied the concept of Tikkun Olam.  The film not only celebrates Charles Grodin’s hilarious acting career\, but also his remarkable\, decades-long\, successful fight to get wrongly convicted people — most of whom were mothers of color with young children — out of prison. \n\n\n\n\n\n\n\nView Event↗
URL:https://jccnnj.org/event/charles-grodin-rebel-with-a-cause-regal-nanuet/
CATEGORIES:Rockland JCC International Film Festival
ATTACH;FMTTYPE=image/jpeg:https://jccnnj.org/wp-content/uploads/2026/03/grodin.jpg
END:VEVENT
BEGIN:VEVENT
DTSTART;TZID=America/New_York:20260420T130000
DTEND;TZID=America/New_York:20260420T130000
DTSTAMP:20260419T105033
CREATED:20260304T153358Z
LAST-MODIFIED:20260304T153400Z
UID:10000699-1776690000-1776690000@jccnnj.org
SUMMARY:Ethan Bloom | JCC Rockland
DESCRIPTION:After losing his mother\, thirteen-year-old Ethan finds solace in the Catholic church—a refuge that feels like home\, even though he was born into a Jewish family. When his father insists on a bar mitzvah and Ethan’s secret unravels at his girlfriend’s confirmation party\, the young seeker must confront the lies he’s told and the grief he’s been running from.
URL:https://jccnnj.org/event/ethan-bloom-jcc-rockland/
CATEGORIES:Rockland JCC International Film Festival
ATTACH;FMTTYPE=image/jpeg:https://jccnnj.org/wp-content/uploads/2026/03/ethan-bloom-nnj.jpg
END:VEVENT
BEGIN:VEVENT
DTSTART;TZID=America/New_York:20260421T190000
DTEND;TZID=America/New_York:20260421T190000
DTSTAMP:20260419T105033
CREATED:20260304T153657Z
LAST-MODIFIED:20260304T153726Z
UID:10000700-1776798000-1776798000@jccnnj.org
SUMMARY:The Stronghold | Regal Nanuet
DESCRIPTION:Based on real events that took place in the “Mazakh” bastion\, the Yom Kippur war\, the Sinai front. After a surprise Egyptian attack\, 42 soldiers under the command of a young lieutenant from the Seder yeshiva\, struggle to repel the enemy attacks during which many of the fighters are injured or killed.
URL:https://jccnnj.org/event/the-stronghold-regal-nanuet/
CATEGORIES:Rockland JCC International Film Festival
ATTACH;FMTTYPE=image/jpeg:https://jccnnj.org/wp-content/uploads/2026/03/stronghold-nnj.jpg
END:VEVENT
BEGIN:VEVENT
DTSTART;TZID=America/New_York:20260423T190000
DTEND;TZID=America/New_York:20260423T190000
DTSTAMP:20260419T105033
CREATED:20260304T154357Z
LAST-MODIFIED:20260304T154359Z
UID:10000701-1776970800-1776970800@jccnnj.org
SUMMARY:Swedishkayt: YidLife Crisis in Stockholm | Regal Nanuet
DESCRIPTION:Get ready to laugh and kvell with Swedishkayt: YidLife Crisis in Stockholm as self-proclaimed international Yiddish-ish icons YidLife Crisis—comedy duo Eli Batalion and Jamie Elman—bravely step onto Swedish soil to unearth a hidden treasure trove of Jewish culture.
URL:https://jccnnj.org/event/swedishkayt-yidlife-crisis-in-stockholm-regal-nanuet/
CATEGORIES:Rockland JCC International Film Festival
ATTACH;FMTTYPE=image/jpeg:https://jccnnj.org/wp-content/uploads/2026/03/swedishkayt-nnj.jpg
END:VEVENT
BEGIN:VEVENT
DTSTART;TZID=America/New_York:20260426T140000
DTEND;TZID=America/New_York:20260426T140000
DTSTAMP:20260419T105033
CREATED:20260304T161224Z
LAST-MODIFIED:20260304T161225Z
UID:10000702-1777212000-1777212000@jccnnj.org
SUMMARY:The Ring | Regal Nanuet
DESCRIPTION:Beloved Israeli comedian and acclaimed actor Adir Miller (The Matchmaker\, MJFF ’22) makes a powerful return to the screen with The Ring\, a deeply personal and emotionally resonant drama inspired by his own family’s Holocaust survival. 
URL:https://jccnnj.org/event/the-ring-regal-nanuet/
CATEGORIES:Rockland JCC International Film Festival
ATTACH;FMTTYPE=image/jpeg:https://jccnnj.org/wp-content/uploads/2026/03/the-ring-nnj.jpg
END:VEVENT
END:VCALENDAR