BEGIN:VCALENDAR
VERSION:2.0
PRODID:-//JCC NNJ - ECPv6.15.20//NONSGML v1.0//EN
CALSCALE:GREGORIAN
METHOD:PUBLISH
X-ORIGINAL-URL:https://jccnnj.org
X-WR-CALDESC:Events for JCC NNJ
REFRESH-INTERVAL;VALUE=DURATION:PT1H
X-Robots-Tag:noindex
X-PUBLISHED-TTL:PT1H
BEGIN:VTIMEZONE
TZID:America/New_York
BEGIN:DAYLIGHT
TZOFFSETFROM:-0500
TZOFFSETTO:-0400
TZNAME:EDT
DTSTART:20210314T070000
END:DAYLIGHT
BEGIN:STANDARD
TZOFFSETFROM:-0400
TZOFFSETTO:-0500
TZNAME:EST
DTSTART:20211107T060000
END:STANDARD
BEGIN:DAYLIGHT
TZOFFSETFROM:-0500
TZOFFSETTO:-0400
TZNAME:EDT
DTSTART:20220313T070000
END:DAYLIGHT
BEGIN:STANDARD
TZOFFSETFROM:-0400
TZOFFSETTO:-0500
TZNAME:EST
DTSTART:20221106T060000
END:STANDARD
BEGIN:DAYLIGHT
TZOFFSETFROM:-0500
TZOFFSETTO:-0400
TZNAME:EDT
DTSTART:20230312T070000
END:DAYLIGHT
BEGIN:STANDARD
TZOFFSETFROM:-0400
TZOFFSETTO:-0500
TZNAME:EST
DTSTART:20231105T060000
END:STANDARD
END:VTIMEZONE
BEGIN:VEVENT
DTSTART;TZID=America/New_York:20221006T100000
DTEND;TZID=America/New_York:20221006T130000
DTSTAMP:20260425T115117
CREATED:20220808T043625Z
LAST-MODIFIED:20221012T142220Z
UID:10000325-1665050400-1665061200@jccnnj.org
SUMMARY:Active Seniors
DESCRIPTION:Active Seniors meet every Tuesday and Thursday from 10 AM-1 PM unless noted. Click here for a detailed calendar.
URL:https://jccnnj.org/event/active-seniors/2022-10-06/
CATEGORIES:Seniors
END:VEVENT
BEGIN:VEVENT
DTSTART;TZID=America/New_York:20221011T100000
DTEND;TZID=America/New_York:20221011T130000
DTSTAMP:20260425T115117
CREATED:20220808T043625Z
LAST-MODIFIED:20221012T142220Z
UID:10000326-1665482400-1665493200@jccnnj.org
SUMMARY:Active Seniors
DESCRIPTION:Active Seniors meet every Tuesday and Thursday from 10 AM-1 PM unless noted. Click here for a detailed calendar.
URL:https://jccnnj.org/event/active-seniors/2022-10-11/
CATEGORIES:Seniors
END:VEVENT
BEGIN:VEVENT
DTSTART;TZID=America/New_York:20221013T100000
DTEND;TZID=America/New_York:20221013T130000
DTSTAMP:20260425T115117
CREATED:20220808T043625Z
LAST-MODIFIED:20221012T142220Z
UID:10000327-1665655200-1665666000@jccnnj.org
SUMMARY:Active Seniors
DESCRIPTION:Active Seniors meet every Tuesday and Thursday from 10 AM-1 PM unless noted. Click here for a detailed calendar.
URL:https://jccnnj.org/event/active-seniors/2022-10-13/
CATEGORIES:Seniors
END:VEVENT
BEGIN:VEVENT
DTSTART;TZID=America/New_York:20221018T100000
DTEND;TZID=America/New_York:20221018T130000
DTSTAMP:20260425T115117
CREATED:20220808T043625Z
LAST-MODIFIED:20221012T142220Z
UID:10000328-1666087200-1666098000@jccnnj.org
SUMMARY:Active Seniors
DESCRIPTION:Active Seniors meet every Tuesday and Thursday from 10 AM-1 PM unless noted. Click here for a detailed calendar.
URL:https://jccnnj.org/event/active-seniors/2022-10-18/
CATEGORIES:Seniors
END:VEVENT
BEGIN:VEVENT
DTSTART;TZID=America/New_York:20221020T100000
DTEND;TZID=America/New_York:20221020T130000
DTSTAMP:20260425T115117
CREATED:20220808T043625Z
LAST-MODIFIED:20221012T142220Z
UID:10000329-1666260000-1666270800@jccnnj.org
SUMMARY:Active Seniors
DESCRIPTION:Active Seniors meet every Tuesday and Thursday from 10 AM-1 PM unless noted. Click here for a detailed calendar.
URL:https://jccnnj.org/event/active-seniors/2022-10-20/
CATEGORIES:Seniors
END:VEVENT
BEGIN:VEVENT
DTSTART;TZID=America/New_York:20221025T100000
DTEND;TZID=America/New_York:20221025T130000
DTSTAMP:20260425T115117
CREATED:20220808T043625Z
LAST-MODIFIED:20221012T142220Z
UID:10000330-1666692000-1666702800@jccnnj.org
SUMMARY:Active Seniors
DESCRIPTION:Active Seniors meet every Tuesday and Thursday from 10 AM-1 PM unless noted. Click here for a detailed calendar.
URL:https://jccnnj.org/event/active-seniors/2022-10-25/
CATEGORIES:Seniors
END:VEVENT
BEGIN:VEVENT
DTSTART;TZID=America/New_York:20221027T100000
DTEND;TZID=America/New_York:20221027T130000
DTSTAMP:20260425T115117
CREATED:20220808T043625Z
LAST-MODIFIED:20221012T142220Z
UID:10000331-1666864800-1666875600@jccnnj.org
SUMMARY:Active Seniors
DESCRIPTION:Active Seniors meet every Tuesday and Thursday from 10 AM-1 PM unless noted. Click here for a detailed calendar.
URL:https://jccnnj.org/event/active-seniors/2022-10-27/
CATEGORIES:Seniors
END:VEVENT
END:VCALENDAR