BEGIN:VCALENDAR
VERSION:2.0
PRODID:-//JCC NNJ - ECPv6.15.20//NONSGML v1.0//EN
CALSCALE:GREGORIAN
METHOD:PUBLISH
X-ORIGINAL-URL:https://jccnnj.org
X-WR-CALDESC:Events for JCC NNJ
REFRESH-INTERVAL;VALUE=DURATION:PT1H
X-Robots-Tag:noindex
X-PUBLISHED-TTL:PT1H
BEGIN:VTIMEZONE
TZID:America/New_York
BEGIN:DAYLIGHT
TZOFFSETFROM:-0500
TZOFFSETTO:-0400
TZNAME:EDT
DTSTART:20220313T070000
END:DAYLIGHT
BEGIN:STANDARD
TZOFFSETFROM:-0400
TZOFFSETTO:-0500
TZNAME:EST
DTSTART:20221106T060000
END:STANDARD
BEGIN:DAYLIGHT
TZOFFSETFROM:-0500
TZOFFSETTO:-0400
TZNAME:EDT
DTSTART:20230312T070000
END:DAYLIGHT
BEGIN:STANDARD
TZOFFSETFROM:-0400
TZOFFSETTO:-0500
TZNAME:EST
DTSTART:20231105T060000
END:STANDARD
BEGIN:DAYLIGHT
TZOFFSETFROM:-0500
TZOFFSETTO:-0400
TZNAME:EDT
DTSTART:20240310T070000
END:DAYLIGHT
BEGIN:STANDARD
TZOFFSETFROM:-0400
TZOFFSETTO:-0500
TZNAME:EST
DTSTART:20241103T060000
END:STANDARD
END:VTIMEZONE
BEGIN:VEVENT
DTSTART;TZID=America/New_York:20230202T100000
DTEND;TZID=America/New_York:20230202T120000
DTSTAMP:20260424T221653
CREATED:20230123T233753Z
LAST-MODIFIED:20230130T160218Z
UID:10000378-1675332000-1675339200@jccnnj.org
SUMMARY:History of the Refugee Crisis — 19th Century to the Present
DESCRIPTION:Join returning favorite historian\, author\, and JCC friend\, Michael Goodman\, for his informative multimedia lecture\, History of the Refugee Crisis — 19th Century to the Present. Learn more about the history of the challenges faced by refugees seeking a better life in the “land of the free and the home of the brave” over the past 150+ years. This program is presented in partnership with Hadassah of Northern NJ. \nThis RSVP includes entry to the 10 am exercise\, the 11 am program\, and the lunch at 12 pm.
URL:https://jccnnj.org/event/history-of-the-refugee-crisis-19th-century-to-the-present/
LOCATION:Temple Avodat Shalom\, 385 Howland Ave\, River Edge\, NJ\, 07661\, United States
CATEGORIES:Seniors
ATTACH;FMTTYPE=image/jpeg:https://jccnnj.org/wp-content/uploads/2022/11/IMG_7952.jpeg
ORGANIZER;CN="Erica Danziger":MAILTO:ericad@jccnnj.org
END:VEVENT
BEGIN:VEVENT
DTSTART;TZID=America/New_York:20230207T100000
DTEND;TZID=America/New_York:20230207T120000
DTSTAMP:20260424T221653
CREATED:20230124T001346Z
LAST-MODIFIED:20230130T155319Z
UID:10000380-1675764000-1675771200@jccnnj.org
SUMMARY:Musical Journey Around the World
DESCRIPTION:Acclaimed concert violinist\, Dr. David Podles takes us on a Musical Journey Around the World as he performs some of the most famous\, poignant and exciting pieces representing Israel\, France\, Hungary\, Germany\, Romania\, Italy\, Spain\, Russia\, Austria and more! \nThis RSVP includes entry to the 10 am exercise\, the 11 am program\, and the lunch at 12 pm.
URL:https://jccnnj.org/event/musical-journey-around-the-world/
LOCATION:Temple Avodat Shalom\, 385 Howland Ave\, River Edge\, NJ\, 07661\, United States
CATEGORIES:Seniors
ATTACH;FMTTYPE=image/jpeg:https://jccnnj.org/wp-content/uploads/2022/11/IMG_7952.jpeg
ORGANIZER;CN="Erica Danziger":MAILTO:ericad@jccnnj.org
END:VEVENT
BEGIN:VEVENT
DTSTART;TZID=America/New_York:20230209T100000
DTEND;TZID=America/New_York:20230209T120000
DTSTAMP:20260424T221653
CREATED:20230124T001633Z
LAST-MODIFIED:20230130T160129Z
UID:10000381-1675936800-1675944000@jccnnj.org
SUMMARY:The Art of Aging
DESCRIPTION:Social workers Linda Poleyeff and Paula Rozner of Jewish Family and Children’s Services return with part 4 (of 8) of their monthly series\, The Art of Aging. This month’s topic focuses on forgiveness. \nThis RSVP includes entry to the 10 am exercise\, the 11 am program\, and the lunch at 12 pm.
URL:https://jccnnj.org/event/the-art-of-aging/
LOCATION:Temple Avodat Shalom\, 385 Howland Ave\, River Edge\, NJ\, 07661\, United States
CATEGORIES:Seniors
ATTACH;FMTTYPE=image/jpeg:https://jccnnj.org/wp-content/uploads/2022/11/IMG_7952.jpeg
ORGANIZER;CN="Erica Danziger":MAILTO:ericad@jccnnj.org
END:VEVENT
BEGIN:VEVENT
DTSTART;TZID=America/New_York:20230214T100000
DTEND;TZID=America/New_York:20230214T120000
DTSTAMP:20260424T221653
CREATED:20230124T002049Z
LAST-MODIFIED:20230130T160044Z
UID:10000382-1676368800-1676376000@jccnnj.org
SUMMARY:One Day University’s Rosa Parks: Her True Story and Legacy
DESCRIPTION:In honor of Black History Month\, this viewing of One Day University’s Rosa Parks: Her True Story and Legacy features Dr. Brenna Wynn Greer\, Associate Professor at Wellesley College. Dr. Greer explores how Parks’ media representation encouraged an iconic image that\, while celebratory and inspiring\, is at odds with her long record fighting Jim Crow and its many abuses\, informing current day notions about black protest. (Pre-recorded lecture) \nThis RSVP includes entry to the 10 am exercise\, the 11 am program\, and the lunch at 12 pm.
URL:https://jccnnj.org/event/one-day-universitys-rosa-parks-her-true-story-and-legacy/
LOCATION:Temple Avodat Shalom\, 385 Howland Ave\, River Edge\, NJ\, 07661\, United States
CATEGORIES:Seniors
ATTACH;FMTTYPE=image/jpeg:https://jccnnj.org/wp-content/uploads/2022/11/IMG_7952.jpeg
ORGANIZER;CN="Erica Danziger":MAILTO:ericad@jccnnj.org
END:VEVENT
BEGIN:VEVENT
DTSTART;TZID=America/New_York:20230216T100000
DTEND;TZID=America/New_York:20230216T120000
DTSTAMP:20260424T221653
CREATED:20230124T002259Z
LAST-MODIFIED:20230130T155947Z
UID:10000383-1676541600-1676548800@jccnnj.org
SUMMARY:The Cigar Factory of Isay Rottenberg
DESCRIPTION:Written by Rottenberg’s granddaughters\, The Cigar Factory of Isay Rottenberg tells the story of Rottenberg’s fight for rehabilitation and restitution of his cigar factory\, expropriated by Deutsche Bank six months after he took over the bankrupt cigar factory in 1932 transforming it into a successful business. Canadian criminal defense lawyer and author of bestselling legal thrillers\, Robert Rotenberg\, joins us to share the full true story chronicled in this fascinating tale. Brought to us by the Jewish Book Council\, this program is presented in partnership with the Fair Lawn Jewish Center/Congregation B’nai Israel. \nThis RSVP includes entry to the 10 am exercise\, the 11 am program\, and the lunch at 12 pm.
URL:https://jccnnj.org/event/the-cigar-factory-of-isay-rottenberg/
LOCATION:Temple Avodat Shalom\, 385 Howland Ave\, River Edge\, NJ\, 07661\, United States
CATEGORIES:Seniors
ATTACH;FMTTYPE=image/jpeg:https://jccnnj.org/wp-content/uploads/2022/11/IMG_7952.jpeg
ORGANIZER;CN="Erica Danziger":MAILTO:ericad@jccnnj.org
END:VEVENT
BEGIN:VEVENT
DTSTART;TZID=America/New_York:20230221T100000
DTEND;TZID=America/New_York:20230221T120000
DTSTAMP:20260424T221653
CREATED:20230124T002446Z
LAST-MODIFIED:20230130T155850Z
UID:10000384-1676973600-1676980800@jccnnj.org
SUMMARY:Songs We Love to Sing
DESCRIPTION:Our friend and favorite maestro\, Hal Keshner\, is back to lead us in singing Songs We Love to Sing. Musical selections will be favorite songs chosen in advance by attendees of Active Seniors.  \nThis RSVP includes entry to the 10 am exercise\, the 11 am program\, and the lunch at 12 pm.
URL:https://jccnnj.org/event/songs-we-love-to-sing/
LOCATION:Temple Avodat Shalom\, 385 Howland Ave\, River Edge\, NJ\, 07661\, United States
CATEGORIES:Seniors
ATTACH;FMTTYPE=image/jpeg:https://jccnnj.org/wp-content/uploads/2022/11/IMG_7952.jpeg
ORGANIZER;CN="Erica Danziger":MAILTO:ericad@jccnnj.org
END:VEVENT
BEGIN:VEVENT
DTSTART;TZID=America/New_York:20230223T100000
DTEND;TZID=America/New_York:20230223T120000
DTSTAMP:20260424T221653
CREATED:20230124T002925Z
LAST-MODIFIED:20230130T155756Z
UID:10000385-1677146400-1677153600@jccnnj.org
SUMMARY:Minute to Win It
DESCRIPTION:Based on the game show of the same name\, Minute to Win It consists of a series of 60-second challenges using items typically found around the house. Participants attempt to see who can finish a challenge first or who can complete a task the most times in under a minute. It’s as fun to watch as it is to participate!  Compete for prizes and bragging rights! 😉 \nThis RSVP includes entry to the 10 am exercise\, the 11 am program\, and the lunch at 12 pm.
URL:https://jccnnj.org/event/minute-to-win-it/
LOCATION:Temple Avodat Shalom\, 385 Howland Ave\, River Edge\, NJ\, 07661\, United States
CATEGORIES:Seniors
ATTACH;FMTTYPE=image/jpeg:https://jccnnj.org/wp-content/uploads/2022/11/IMG_7952.jpeg
ORGANIZER;CN="Erica Danziger":MAILTO:ericad@jccnnj.org
END:VEVENT
BEGIN:VEVENT
DTSTART;TZID=America/New_York:20230228T100000
DTEND;TZID=America/New_York:20230228T120000
DTSTAMP:20260424T221653
CREATED:20230124T003056Z
LAST-MODIFIED:20230130T155558Z
UID:10000386-1677578400-1677585600@jccnnj.org
SUMMARY:Fiddler's Journey to the Big Screen
DESCRIPTION:Narrated by Jeff Goldblum\, Fiddler’s Journey to the Big Screen captures the humor and drama of director Norman Jewison’s quest to recreate the lost world of Jewish life in Tsarist Russia and re-envision the beloved stage hit as a wide-screen epic. We will watch the film in its entirety — 1 hour 28 minutes. Lunch will begin at 12:30 PM.  \nThis RSVP includes entry to the 10 am exercise\, the 11 am program\, and the lunch at 12 pm.
URL:https://jccnnj.org/event/fiddlers-journey-to-the-big-screen/
LOCATION:Temple Avodat Shalom\, 385 Howland Ave\, River Edge\, NJ\, 07661\, United States
CATEGORIES:Seniors
ATTACH;FMTTYPE=image/jpeg:https://jccnnj.org/wp-content/uploads/2022/11/IMG_7952.jpeg
ORGANIZER;CN="Erica Danziger":MAILTO:ericad@jccnnj.org
END:VEVENT
END:VCALENDAR