BEGIN:VCALENDAR
VERSION:2.0
PRODID:-//JCC NNJ - ECPv6.15.20//NONSGML v1.0//EN
CALSCALE:GREGORIAN
METHOD:PUBLISH
X-ORIGINAL-URL:https://jccnnj.org
X-WR-CALDESC:Events for JCC NNJ
REFRESH-INTERVAL;VALUE=DURATION:PT1H
X-Robots-Tag:noindex
X-PUBLISHED-TTL:PT1H
BEGIN:VTIMEZONE
TZID:America/New_York
BEGIN:DAYLIGHT
TZOFFSETFROM:-0500
TZOFFSETTO:-0400
TZNAME:EDT
DTSTART:20220313T070000
END:DAYLIGHT
BEGIN:STANDARD
TZOFFSETFROM:-0400
TZOFFSETTO:-0500
TZNAME:EST
DTSTART:20221106T060000
END:STANDARD
BEGIN:DAYLIGHT
TZOFFSETFROM:-0500
TZOFFSETTO:-0400
TZNAME:EDT
DTSTART:20230312T070000
END:DAYLIGHT
BEGIN:STANDARD
TZOFFSETFROM:-0400
TZOFFSETTO:-0500
TZNAME:EST
DTSTART:20231105T060000
END:STANDARD
BEGIN:DAYLIGHT
TZOFFSETFROM:-0500
TZOFFSETTO:-0400
TZNAME:EDT
DTSTART:20240310T070000
END:DAYLIGHT
BEGIN:STANDARD
TZOFFSETFROM:-0400
TZOFFSETTO:-0500
TZNAME:EST
DTSTART:20241103T060000
END:STANDARD
END:VTIMEZONE
BEGIN:VEVENT
DTSTART;TZID=America/New_York:20231130T110000
DTEND;TZID=America/New_York:20231130T123000
DTSTAMP:20260424T022440
CREATED:20231120T182256Z
LAST-MODIFIED:20231128T162750Z
UID:10000440-1701342000-1701347400@jccnnj.org
SUMMARY:Hanukkah Cabaret with Naomi Miller
DESCRIPTION:Hanukkah Cabaret with special guest Naomi Miller\, featuring accompanist Dave Schlossberg.  \n\n\n\nWe kindly suggest a donation of $10\, which includes Exercise\, Concert\, and Kosher Lunch.  \n\n\n\nSponsored by the Barbara and Nathan Schmidt Endowment.  \n\n\n\nRSVP Required NO LATER THAN NOV. 23 \n\n\n\nFunding provided by \n\n\n\nJewish Federation of Northern New Jersey \n\n\n\nBergen County Division of Senior Services
URL:https://jccnnj.org/event/hanukkah-cabaret-with-naomi-miller/
CATEGORIES:Seniors
END:VEVENT
END:VCALENDAR