BEGIN:VCALENDAR
VERSION:2.0
PRODID:-//JCC NNJ - ECPv6.15.20//NONSGML v1.0//EN
CALSCALE:GREGORIAN
METHOD:PUBLISH
X-WR-CALNAME:JCC NNJ
X-ORIGINAL-URL:https://jccnnj.org
X-WR-CALDESC:Events for JCC NNJ
REFRESH-INTERVAL;VALUE=DURATION:PT1H
X-Robots-Tag:noindex
X-PUBLISHED-TTL:PT1H
BEGIN:VTIMEZONE
TZID:America/New_York
BEGIN:DAYLIGHT
TZOFFSETFROM:-0500
TZOFFSETTO:-0400
TZNAME:EDT
DTSTART:20230312T070000
END:DAYLIGHT
BEGIN:STANDARD
TZOFFSETFROM:-0400
TZOFFSETTO:-0500
TZNAME:EST
DTSTART:20231105T060000
END:STANDARD
BEGIN:DAYLIGHT
TZOFFSETFROM:-0500
TZOFFSETTO:-0400
TZNAME:EDT
DTSTART:20240310T070000
END:DAYLIGHT
BEGIN:STANDARD
TZOFFSETFROM:-0400
TZOFFSETTO:-0500
TZNAME:EST
DTSTART:20241103T060000
END:STANDARD
BEGIN:DAYLIGHT
TZOFFSETFROM:-0500
TZOFFSETTO:-0400
TZNAME:EDT
DTSTART:20250309T070000
END:DAYLIGHT
BEGIN:STANDARD
TZOFFSETFROM:-0400
TZOFFSETTO:-0500
TZNAME:EST
DTSTART:20251102T060000
END:STANDARD
END:VTIMEZONE
BEGIN:VEVENT
DTSTART;TZID=America/New_York:20241210T110000
DTEND;TZID=America/New_York:20241210T110000
DTSTAMP:20260420T075644
CREATED:20241113T193338Z
LAST-MODIFIED:20241114T174646Z
UID:10000510-1733828400-1733828400@jccnnj.org
SUMMARY:Active Seniors Annual Hanukkah Celebration
DESCRIPTION:Featuring: The MamalesMaya Jacobson\, Raquel Nobile\, and Jodi Snyder \n\n\n\n385 Howland Ave.\, River Edge\, NJ \n\n\n\nSeniors $10 — suggested donation All Others $18 \n\n\n\nFor tickets (201) 666-6610 x2 or jennifers@jccrockland.org \n\n\n\nThank you to our event sponsorsThe Barbara and Nathan Schmidt Endowment and RWJ Barnabas Health
URL:https://jccnnj.org/event/seniorhanukkah/
CATEGORIES:Seniors
ATTACH;FMTTYPE=image/jpeg:https://jccnnj.org/wp-content/uploads/2024/11/Mamales-2_JPG.jpg
END:VEVENT
END:VCALENDAR