BEGIN:VCALENDAR
VERSION:2.0
PRODID:-//JCC NNJ - ECPv6.15.20//NONSGML v1.0//EN
CALSCALE:GREGORIAN
METHOD:PUBLISH
X-ORIGINAL-URL:https://jccnnj.org
X-WR-CALDESC:Events for JCC NNJ
REFRESH-INTERVAL;VALUE=DURATION:PT1H
X-Robots-Tag:noindex
X-PUBLISHED-TTL:PT1H
BEGIN:VTIMEZONE
TZID:America/New_York
BEGIN:DAYLIGHT
TZOFFSETFROM:-0500
TZOFFSETTO:-0400
TZNAME:EDT
DTSTART:20210314T070000
END:DAYLIGHT
BEGIN:STANDARD
TZOFFSETFROM:-0400
TZOFFSETTO:-0500
TZNAME:EST
DTSTART:20211107T060000
END:STANDARD
BEGIN:DAYLIGHT
TZOFFSETFROM:-0500
TZOFFSETTO:-0400
TZNAME:EDT
DTSTART:20220313T070000
END:DAYLIGHT
BEGIN:STANDARD
TZOFFSETFROM:-0400
TZOFFSETTO:-0500
TZNAME:EST
DTSTART:20221106T060000
END:STANDARD
BEGIN:DAYLIGHT
TZOFFSETFROM:-0500
TZOFFSETTO:-0400
TZNAME:EDT
DTSTART:20230312T070000
END:DAYLIGHT
BEGIN:STANDARD
TZOFFSETFROM:-0400
TZOFFSETTO:-0500
TZNAME:EST
DTSTART:20231105T060000
END:STANDARD
END:VTIMEZONE
BEGIN:VEVENT
DTSTART;TZID=America/New_York:20220503T110000
DTEND;TZID=America/New_York:20220503T120000
DTSTAMP:20260421T185332
CREATED:20220712T174113Z
LAST-MODIFIED:20220712T174113Z
UID:10000290-1651575600-1651579200@jccnnj.org
SUMMARY:Rosh Chodesh Yiddish Bingo
DESCRIPTION:Join us to celebrate the new Jewish month with a fun game of “Yiddish Bingo”! All are welcome.
URL:https://jccnnj.org/event/rosh-chodesh-yiddish-bingo/
END:VEVENT
BEGIN:VEVENT
DTSTART;TZID=America/New_York:20220503T100000
DTEND;TZID=America/New_York:20220503T120000
DTSTAMP:20260421T185332
CREATED:20220712T174113Z
LAST-MODIFIED:20220712T174113Z
UID:10000289-1651572000-1651579200@jccnnj.org
SUMMARY:Chair Yoga
DESCRIPTION:In Person Programming Tuesdays at 10 AM at Temple Beth Sholom. All ages and all abilities are welcome! This gentle yoga program is designed to inspire and empower seniors through the power of yoga. Students gently move\, stretch\, bend\, and breathe while sitting in a chair to relaxing meditation music. Students can also stand behind their chairs for additional yoga movements.
URL:https://jccnnj.org/event/chair-yoga-2/
END:VEVENT
BEGIN:VEVENT
DTSTART;TZID=America/New_York:20220501T090000
DTEND;TZID=America/New_York:20220501T120000
DTSTAMP:20260421T185332
CREATED:20220712T174111Z
LAST-MODIFIED:20220712T174111Z
UID:10000288-1651395600-1651406400@jccnnj.org
SUMMARY:Co-Ed Mini Soccer Spring Series
DESCRIPTION:This co-ed mini-soccer class teaches the basics of soccer using fun exercises and techniques. This motivational environment will help kids learn the sport while having fun. This program is open to the community.
URL:https://jccnnj.org/event/co-ed-mini-soccer-spring-series/
END:VEVENT
BEGIN:VEVENT
DTSTART;TZID=America/New_York:20220428T110000
DTEND;TZID=America/New_York:20220428T120000
DTSTAMP:20260421T185332
CREATED:20220712T174110Z
LAST-MODIFIED:20220712T174110Z
UID:10000287-1651143600-1651147200@jccnnj.org
SUMMARY:TRANSFORMATION AND REMEMBRANCE: A JOURNEY FROM THE HOLOCAUST TO THE CLASSROOM
DESCRIPTION:Please join us for this important presentation in honor of Yom Ha’Shoah on Thursday\, April 28 at 11 AM.
URL:https://jccnnj.org/event/transformation-and-remembrance-a-journey-from-the-holocaust-to-the-classroom/
END:VEVENT
BEGIN:VEVENT
DTSTART;TZID=America/New_York:20220428T100000
DTEND;TZID=America/New_York:20220428T110000
DTSTAMP:20260421T185332
CREATED:20220712T174110Z
LAST-MODIFIED:20220712T174110Z
UID:10000286-1651140000-1651143600@jccnnj.org
SUMMARY:Zumba Fitness Class
DESCRIPTION:This Zumba class is a fun\, energizing and low-impact exercise class. Participants can either sit or stand to participate. It’s a great way to stay healthy and moving! This program is open to the community; no membership is needed. Participants are invited to pay a $5 optional donation to support this programming. No pre-registration required. Please register for lunch after Zumba one week in advance.
URL:https://jccnnj.org/event/zumba-fitness-class/
END:VEVENT
BEGIN:VEVENT
DTSTART;TZID=America/New_York:20220426T110000
DTEND;TZID=America/New_York:20220426T120000
DTSTAMP:20260421T185332
CREATED:20220712T174110Z
LAST-MODIFIED:20220712T174110Z
UID:10000285-1650970800-1650974400@jccnnj.org
SUMMARY:Earth Day Celebration
DESCRIPTION:Registration for this program is now closed. Thank you to everyone who registered in advance. Call 201-666-6610 ext 1 for any questions. Join us to celebrate Earth Day together with a film and a mitzvah project. Together\, we will learn and listen to a film about our climate. Then\, as our Mitzvah Moment\, we will also create and paint birdhouses to donate to the nursery school at the temple so the children can proudly display them in their playground.
URL:https://jccnnj.org/event/earth-day-celebration/
END:VEVENT
BEGIN:VEVENT
DTSTART;TZID=America/New_York:20220426T100000
DTEND;TZID=America/New_York:20220426T110000
DTSTAMP:20260421T185332
CREATED:20220712T174110Z
LAST-MODIFIED:20220712T174110Z
UID:10000284-1650967200-1650970800@jccnnj.org
SUMMARY:Chair Yoga
DESCRIPTION:In Person Programming Tuesdays at 10 AM at Temple Beth Sholom. All ages and all abilities are welcome! This gentle yoga program is designed to inspire and empower seniors through the power of yoga. Students gently move\, stretch\, bend\, and breathe while sitting in a chair to relaxing meditation music. Students can also stand behind their chairs for additional yoga movements.
URL:https://jccnnj.org/event/chair-yoga/
END:VEVENT
END:VCALENDAR